BEGIN:VCALENDAR
VERSION:2.0
PRODID:-//Puslinch Pioneer - ECPv6.15.3//NONSGML v1.0//EN
CALSCALE:GREGORIAN
METHOD:PUBLISH
X-WR-CALNAME:Puslinch Pioneer
X-ORIGINAL-URL:https://puslinchpioneer.com
X-WR-CALDESC:Events for Puslinch Pioneer
REFRESH-INTERVAL;VALUE=DURATION:PT1H
X-Robots-Tag:noindex
X-PUBLISHED-TTL:PT1H
BEGIN:VTIMEZONE
TZID:UTC
BEGIN:STANDARD
TZOFFSETFROM:+0000
TZOFFSETTO:+0000
TZNAME:UTC
DTSTART:20170101T000000
END:STANDARD
END:VTIMEZONE
BEGIN:VEVENT
DTSTART;TZID=UTC:20220529T183000
DTEND;TZID=UTC:20220529T203000
DTSTAMP:20260424T180659
CREATED:20220428T192036Z
LAST-MODIFIED:20220429T011228Z
UID:1367-1653849000-1653856200@puslinchpioneer.com
SUMMARY:Crieff Hills Community Bonfire
DESCRIPTION:Crieff Hills Community Bonfires are back! This event is in a safe outdoor space and will gather neighbours and new friends\, with no pre-registration and no cost. Please bring a chair\, a smile\, we’ll bring the s’mores. Let’s bring our community together after a long time at home. \nJoin us at the Lodge Area Bonfire.
URL:https://puslinchpioneer.com/index.php/event/crieff-hills-community-bonfires/
LOCATION:Crieff Hills Retreat & Conference Centre\, 7098 Concession 1\, Puslinch\, Ontario\, Canada
ATTACH;FMTTYPE=image/jpeg:https://puslinchpioneer.com/wp-content/uploads/2022/04/bright-fire-dark-night-forest-glade.jpg
END:VEVENT
BEGIN:VEVENT
DTSTART;TZID=UTC:20220529T160000
DTEND;TZID=UTC:20220529T180000
DTSTAMP:20260424T180659
CREATED:20220428T183857Z
LAST-MODIFIED:20220429T010107Z
UID:1350-1653840000-1653847200@puslinchpioneer.com
SUMMARY:Aberfoyle Agricultural Society Chicken BBQ
DESCRIPTION:Our spring chicken barbeque is happening Sunday\, May 29\, 2022 between 4 – 6 pm at Duffs Presbyterian Church in Aberfoyle. \nThe cost is $20 for a half a chicken\, two salads\, roll and dessert. All dinners are takeout and must be ordered ahead of time. \nBook your dinner call 519-823-2687 or contact a member of the agricultural society.\nAll profits go directly to the Agricultural Society and are used to put on the annual Aberfoyle Fall Fair which this year will be September 9 and 10th.
URL:https://puslinchpioneer.com/index.php/event/aberfoyle-agricultural-society-chicken-bbq/
LOCATION:Duffs Presbyterian Church\, 319 Brock Rd S\, Guelph\, Ontario\, N1H 6H9\, Canada
ATTACH;FMTTYPE=image/jpeg:https://puslinchpioneer.com/wp-content/uploads/2022/04/grilled-chicken-wings-flaming-grill-with-grilled-vegetables-barbecue-sauce-with-pepper-seeds-rosemary-salt.jpg
END:VEVENT
BEGIN:VEVENT
DTSTART;TZID=UTC:20220528T110000
DTEND;TZID=UTC:20220528T180000
DTSTAMP:20260424T180659
CREATED:20220429T150201Z
LAST-MODIFIED:20220429T150204Z
UID:1572-1653735600-1653760800@puslinchpioneer.com
SUMMARY:Link up with Duff's
DESCRIPTION:“Fun Day with a Purpose” Golf & Euchre Tournaments Saturday\, May 28\, 2022 in Support of Ukraine Relief. \nGolf & DinnerVictoria Park Valley Tee Off 11 am $105 includes cart. \nEuchre & Dinner Duff’s Church3 pm $50. BBQ Steak Dinner Only Duff’s \nChurch 6 pm $45. Live & Silent Auctions\, Prizes\, 50/50 Draw. \nTickets & Info call June 519-763-0309 or Brenda 519-767-2462.
URL:https://puslinchpioneer.com/index.php/event/link-up-with-duffs/
LOCATION:Victoria Park Valley Golf Club\, 7660 Maltby Rd E\, Puslinch\, Ontario\, N0B 2J0\, Canada
ATTACH;FMTTYPE=image/jpeg:https://puslinchpioneer.com/wp-content/uploads/2022/04/golf-ball-green-grass-ready-be-struck-golf-course-1.jpg
END:VEVENT
BEGIN:VEVENT
DTSTART;TZID=UTC:20220528T080000
DTEND;TZID=UTC:20220528T130000
DTSTAMP:20260424T180659
CREATED:20220429T130256Z
LAST-MODIFIED:20220429T130256Z
UID:1528-1653724800-1653742800@puslinchpioneer.com
SUMMARY:Aberfoyle Farmers' Market
DESCRIPTION:
URL:https://puslinchpioneer.com/index.php/event/aberfoyle-farmers-market/
LOCATION:Optimist Recreation Centre\, 23 Brock Rd S\, Puslinch\, Ontario\, N0B 2J0\, Canada
ATTACH;FMTTYPE=image/jpeg:https://puslinchpioneer.com/wp-content/uploads/2015/08/farmersmarket.jpg
END:VEVENT
BEGIN:VEVENT
DTSTART;TZID=UTC:20220526T110000
DTEND;TZID=UTC:20220526T114500
DTSTAMP:20260424T180659
CREATED:20220428T155648Z
LAST-MODIFIED:20220429T001511Z
UID:1316-1653562800-1653565500@puslinchpioneer.com
SUMMARY:Story Time (Preschool)
DESCRIPTION:Our Story Times are designed to help your child get ready for reading. Share stories\, songs\, rhymes\, and activities aimed at developing your child’s early literacy skills. \nPlease register children only. Parents or caregivers who wish to link their library card may change the participant name as needed. Adult accompaniment is required. \n			\n			\n				\n				\n				\n				\n				\n				Please Register
URL:https://puslinchpioneer.com/index.php/event/story-time-preschool-4/
LOCATION:Puslinch Branch\, Wellington County Library\, 29 Brock Road South\, Puslinch\, Ontario\, N0B 2J0\, Canada
ATTACH;FMTTYPE=image/jpeg:https://puslinchpioneer.com/wp-content/uploads/2022/04/happy-kids-elementary-school-1.jpg
END:VEVENT
BEGIN:VEVENT
DTSTART;TZID=UTC:20220524T103000
DTEND;TZID=UTC:20220524T110000
DTSTAMP:20260424T180659
CREATED:20220428T175141Z
LAST-MODIFIED:20220429T005207Z
UID:1345-1653388200-1653390000@puslinchpioneer.com
SUMMARY:Baby Time (0-12 months)
DESCRIPTION:Introduce your baby to the library and a love of books through finger plays\, songs\, rhymes and stories. \n			\n			\n				\n				\n				\n				\n				\n				Please Register
URL:https://puslinchpioneer.com/index.php/event/baby-time-0-12-months-3/
LOCATION:Ontario
ATTACH;FMTTYPE=image/jpeg:https://puslinchpioneer.com/wp-content/uploads/2022/04/family-spend-time-summer-garden.jpg
END:VEVENT
BEGIN:VEVENT
DTSTART;TZID=UTC:20220519T110000
DTEND;TZID=UTC:20220519T114500
DTSTAMP:20260424T180659
CREATED:20220428T155521Z
LAST-MODIFIED:20220429T001218Z
UID:1314-1652958000-1652960700@puslinchpioneer.com
SUMMARY:Story Time (Preschool)
DESCRIPTION:Our Story Times are designed to help your child get ready for reading. Share stories\, songs\, rhymes\, and activities aimed at developing your child’s early literacy skills. \nPlease register children only. Parents or caregivers who wish to link their library card may change the participant name as needed. Adult accompaniment is required. \n			\n			\n				\n				\n				\n				\n				\n				Please Register
URL:https://puslinchpioneer.com/index.php/event/story-time-preschool-3/
LOCATION:Puslinch Branch\, Wellington County Library\, 29 Brock Road South\, Puslinch\, Ontario\, N0B 2J0\, Canada
ATTACH;FMTTYPE=image/jpeg:https://puslinchpioneer.com/wp-content/uploads/2022/04/happy-kids-elementary-school-1.jpg
END:VEVENT
BEGIN:VEVENT
DTSTART;TZID=UTC:20220518T140000
DTEND;TZID=UTC:20220518T160000
DTSTAMP:20260424T180659
CREATED:20220428T170819Z
LAST-MODIFIED:20220429T004103Z
UID:1338-1652882400-1652889600@puslinchpioneer.com
SUMMARY:Scrabble Club (Adults)
DESCRIPTION:Drop into the branch for an afternoon of casual word building entertainment! No experience necessary. \n			\n			\n				\n				\n				\n				\n				\n				Please Register
URL:https://puslinchpioneer.com/index.php/event/scrabble-club-adults-2/
LOCATION:Puslinch Branch\, Wellington County Library\, 29 Brock Road South\, Puslinch\, Ontario\, N0B 2J0\, Canada
ATTACH;FMTTYPE=image/jpeg:https://puslinchpioneer.com/wp-content/uploads/2022/04/ScrabbleClub1200x900.jpg
END:VEVENT
BEGIN:VEVENT
DTSTART;TZID=UTC:20220517T133000
DTEND;TZID=UTC:20220517T143000
DTSTAMP:20260424T180659
CREATED:20220428T163011Z
LAST-MODIFIED:20220429T003447Z
UID:1329-1652794200-1652797800@puslinchpioneer.com
SUMMARY:Third Tuesday Book Club (Adults)
DESCRIPTION:Discussing Born a Crime by Trevor Noah.\n  \n			\n			\n				\n				\n				\n				\n				\n				Please Register\n			\n			\n				\n				\n				\n				\n			\n				\n				\n				\n				\n				\n				\n				\n				\n				\n				\n				The memoir of one man’s coming-of-age\, set during the twilight of apartheid and the tumultuous days of freedom that followed. \nTrevor Noah’s unlikely path from apartheid South Africa to the desk of The Daily Show began with a criminal act: his birth. Trevor was born to a white Swiss father and a black Xhosa mother at a time when such a union was punishable by five years in prison. Living proof of his parents’ indiscretion\, Trevor was kept mostly indoors for the earliest years of his life\, bound by the extreme and often absurd measures his mother took to hide him from a government that could\, at any moment\, steal him away. Finally liberated by the end of South Africa’s tyrannical white rule\, Trevor and his mother set forth on a grand adventure\, living openly and freely and embracing the opportunities won by a centuries-long struggle. \nBorn a Crime is the story of a mischievous young boy who grows into a restless young man as he struggles to find himself in a world where he was never supposed to exist. It is also the story of that young man’s relationship with his fearless\, rebellious\, and fervently religious mother—his teammate\, a woman determined to save her son from the cycle of poverty\, violence\, and abuse that would ultimately threaten her own life.
URL:https://puslinchpioneer.com/index.php/event/third-tuesday-book-club-adults/
LOCATION:Puslinch Branch\, Wellington County Library\, 29 Brock Road South\, Puslinch\, Ontario\, N0B 2J0\, Canada
ATTACH;FMTTYPE=image/jpeg:https://puslinchpioneer.com/wp-content/uploads/2022/04/BornACrimebyTrevorNoah.jpg
END:VEVENT
BEGIN:VEVENT
DTSTART;TZID=UTC:20220517T103000
DTEND;TZID=UTC:20220517T110000
DTSTAMP:20260424T180659
CREATED:20220428T174911Z
LAST-MODIFIED:20220429T004925Z
UID:1343-1652783400-1652785200@puslinchpioneer.com
SUMMARY:Baby Time (0-12 months)
DESCRIPTION:Introduce your baby to the library and a love of books through finger plays\, songs\, rhymes and stories. \n			\n			\n				\n				\n				\n				\n				\n				Please Register
URL:https://puslinchpioneer.com/index.php/event/baby-time-0-12-months-2/
LOCATION:Puslinch Branch\, Wellington County Library\, 29 Brock Road South\, Puslinch\, Ontario\, N0B 2J0\, Canada
ATTACH;FMTTYPE=image/jpeg:https://puslinchpioneer.com/wp-content/uploads/2022/04/family-spend-time-summer-garden.jpg
END:VEVENT
BEGIN:VEVENT
DTSTART;TZID=UTC:20220514T073000
DTEND;TZID=UTC:20220514T130000
DTSTAMP:20260424T180659
CREATED:20220428T205304Z
LAST-MODIFIED:20220428T225231Z
UID:1381-1652513400-1652533200@puslinchpioneer.com
SUMMARY:Treasurer Trail
DESCRIPTION:Remember that saying one person’s junk is another person’s treasure? Well the Rotary Club of Guelph South is keen to collect your “treasure” for its upcoming May 14 treasure trail. Their plan is to have 20 locations across the area where people will set up and sell their items\, with the proceeds going to Rotary. \nRotary in turn will donate the money to local community organizations such as Sunrise and Elora House as well as helping with international causes\, like the efforts in Ukraine. \nJust think of the decluttering you could do\, and all for a good cause. And if you like to find a bargain or a good book to read\, a map of the Treasure Trail will be available\, so you cancheck out all the treasures available. \nIf you are interested in getting involved\, please contact Shelley Adlington at 226 820 6446 for more details.
URL:https://puslinchpioneer.com/index.php/event/treasurer-trail/
LOCATION:Ontario
ATTACH;FMTTYPE=image/jpeg:https://puslinchpioneer.com/wp-content/uploads/2022/04/simone-pellegrini-b7xmLsCPW20-unsplash.jpg
END:VEVENT
BEGIN:VEVENT
DTSTART;TZID=UTC:20220512T170000
DTEND;TZID=UTC:20220512T193000
DTSTAMP:20260424T180659
CREATED:20220429T151632Z
LAST-MODIFIED:20220429T151757Z
UID:1582-1652374800-1652383800@puslinchpioneer.com
SUMMARY:Optimist Club Annual Fish Fry
DESCRIPTION:Menu: Deep Fried (Canola) Tilapia\, French fries\, vegetable\, coleslaw\, roll\, dessert with ice cream\, coffee\, tea\, orange drink for kids. \nCash Bar – beer and wine. \nCost: Adults $20\, Children (age 6 to 12) $10\, under 6 years free. \nTickets available at the door or from any Optimist Club Member or call 519 821 4256 to reserve tickets or for more information. \nTake out available. \nFace covering recommended except when eating.
URL:https://puslinchpioneer.com/index.php/event/optimist-club-annual-fish-fry/
LOCATION:Puslinch Community Centre\, 23 Brock Rd S\, Aberfoyle\, Ontario\, Canada
ATTACH;FMTTYPE=image/jpeg:https://puslinchpioneer.com/wp-content/uploads/2022/04/fish-chips-with-french-fries.jpg
END:VEVENT
BEGIN:VEVENT
DTSTART;TZID=UTC:20220512T130000
DTEND;TZID=UTC:20220512T140000
DTSTAMP:20260424T180659
CREATED:20220428T162335Z
LAST-MODIFIED:20220428T214920Z
UID:1324-1652360400-1652364000@puslinchpioneer.com
SUMMARY:Making the Most of Online Resources Library Catalogue
DESCRIPTION:The library is open 24/7 with online services that you can access for free!\nCurious about the library’s online catalogue? Would you like to know everything you can do while searching for the latest book or item? Bring your questions and we will do our best to answer them! \nRegister
URL:https://puslinchpioneer.com/index.php/event/making-the-most-of-online-resources-library-catalogue/
LOCATION:Puslinch Branch\, Wellington County Library\, 29 Brock Road South\, Puslinch\, Ontario\, N0B 2J0\, Canada
ATTACH;FMTTYPE=image/jpeg:https://puslinchpioneer.com/wp-content/uploads/2022/04/medium-shot-smiley-woman-working.jpg
END:VEVENT
BEGIN:VEVENT
DTSTART;TZID=UTC:20220512T110000
DTEND;TZID=UTC:20220512T114500
DTSTAMP:20260424T180659
CREATED:20220428T154509Z
LAST-MODIFIED:20220428T231848Z
UID:1312-1652353200-1652355900@puslinchpioneer.com
SUMMARY:Story Time (Preschool)
DESCRIPTION:Our Story Times are designed to help your child get ready for reading. Share stories\, songs\, rhymes\, and activities aimed at developing your child’s early literacy skills. \nPlease register children only. Parents or caregivers who wish to link their library card may change the participant name as needed. Adult accompaniment is required. \n			\n			\n				\n				\n				\n				\n				\n				Please Register
URL:https://puslinchpioneer.com/index.php/event/story-time-preschool-2/
LOCATION:Puslinch Branch\, Wellington County Library\, 29 Brock Road South\, Puslinch\, Ontario\, N0B 2J0\, Canada
ATTACH;FMTTYPE=image/jpeg:https://puslinchpioneer.com/wp-content/uploads/2022/04/happy-kids-elementary-school-1.jpg
END:VEVENT
BEGIN:VEVENT
DTSTART;TZID=UTC:20220510T103000
DTEND;TZID=UTC:20220510T110000
DTSTAMP:20260424T180659
CREATED:20220428T174654Z
LAST-MODIFIED:20220429T004709Z
UID:1340-1652178600-1652180400@puslinchpioneer.com
SUMMARY:Baby Time (0-12 months)
DESCRIPTION:Introduce your baby to the library and a love of books through finger plays\, songs\, rhymes and stories. \n			\n			\n				\n				\n				\n				\n				\n				Please Register
URL:https://puslinchpioneer.com/index.php/event/baby-time-0-12-months/
LOCATION:Puslinch Branch\, Wellington County Library\, 29 Brock Road South\, Puslinch\, Ontario\, N0B 2J0\, Canada
ATTACH;FMTTYPE=image/jpeg:https://puslinchpioneer.com/wp-content/uploads/2022/04/family-spend-time-summer-garden.jpg
END:VEVENT
BEGIN:VEVENT
DTSTART;TZID=UTC:20220507T130000
DTEND;TZID=UTC:20220507T150000
DTSTAMP:20260424T180659
CREATED:20220429T020331Z
LAST-MODIFIED:20220429T022637Z
UID:1514-1651928400-1651935600@puslinchpioneer.com
SUMMARY:Flowers4Mom
DESCRIPTION:Not sure what to get Mom for Mother’s Day\, May 8? We’ve got you Covered! \nCelebrate your Mom or other special women in your life with a beautiful hanging basket.We are extremely grateful to Terra Greenhouses who are donating 100 hanging baskets to Food4Kids Guelph. \nCost $40 \nYour baskets can be picked up Friday. May 6\, between 5pm and 7pm or Saturday\, May 7\, between 1:00pm and 3:00pm. \n			\n				Order Here
URL:https://puslinchpioneer.com/index.php/event/flowers4mom/
LOCATION:Food 4 Kids Guelph\, 503 Imperial Road N.\, Unit 5\, Guelph\, Ontario\, N1H 6T9\, Canada
ATTACH;FMTTYPE=image/jpeg:https://puslinchpioneer.com/wp-content/uploads/2022/04/Flowers4Mom_GUELPH_IG-2_green-copy.jpg
END:VEVENT
BEGIN:VEVENT
DTSTART;TZID=UTC:20220506T130000
DTEND;TZID=UTC:20220506T140000
DTSTAMP:20260424T180659
CREATED:20220428T160543Z
LAST-MODIFIED:20220429T003005Z
UID:1318-1651842000-1651845600@puslinchpioneer.com
SUMMARY:First Friday Book Club (Adults)
DESCRIPTION:Discussing Warlight by Michael Ondaatje.\n  \n			\n			\n				\n				\n				\n				\n				\n				Please Register\n			\n			\n				\n				\n				\n				\n			\n				\n				\n				\n				\n				\n				\n				\n				\n				\n				\n				It is 1945\, and London is still reeling from years of war. Fourteen-year-old Nathaniel and his older sister\, Rachel\, seemingly abandoned by their parents\, have been left in the care of an enigmatic figure they call The Moth. They suspect he may be a criminal and grow both more convinced and less concerned as they come to know his eccentric crew of friends: men and women with a shared history\, all of whom seem determined now to protect and educate (in rather unusual ways) the siblings. But are they really what and who they claim to be? And how should Nathaniel and Rachel feel when their mother returns without their father after months of silence–explaining nothing\, excusing nothing? A dozen years later\, Nathaniel begins to uncover all he didn’t know or understand during that time\, and it is this journey–through reality\, recollection\, and imagi-nation–that is told in this magnificent novel.
URL:https://puslinchpioneer.com/index.php/event/first-friday-book-club-adults/
LOCATION:Puslinch Branch\, Wellington County Library\, 29 Brock Road South\, Puslinch\, Ontario\, N0B 2J0\, Canada
ATTACH;FMTTYPE=image/jpeg:https://puslinchpioneer.com/wp-content/uploads/2022/04/WarlightbyMichaelOndaatje.jpg
END:VEVENT
BEGIN:VEVENT
DTSTART;TZID=UTC:20220505T110000
DTEND;TZID=UTC:20220505T114500
DTSTAMP:20260424T180659
CREATED:20220428T154036Z
LAST-MODIFIED:20220428T230819Z
UID:1306-1651748400-1651751100@puslinchpioneer.com
SUMMARY:Story Time (Preschool)
DESCRIPTION:Our Story Times are designed to help your child get ready for reading. Share stories\, songs\, rhymes\, and activities aimed at developing your child’s early literacy skills. \nPlease register children only. Parents or caregivers who wish to link their library card may change the participant name as needed. Adult accompaniment is required. \n			\n			\n				\n				\n				\n				\n				\n				Please Register
URL:https://puslinchpioneer.com/index.php/event/story-time-preschool/
LOCATION:Puslinch Branch\, Wellington County Library\, 29 Brock Road South\, Puslinch\, Ontario\, N0B 2J0\, Canada
ATTACH;FMTTYPE=image/jpeg:https://puslinchpioneer.com/wp-content/uploads/2022/04/happy-kids-elementary-school-1.jpg
END:VEVENT
BEGIN:VEVENT
DTSTART;TZID=UTC:20220504T140000
DTEND;TZID=UTC:20220504T160000
DTSTAMP:20260424T180659
CREATED:20220428T165537Z
LAST-MODIFIED:20220429T004217Z
UID:1335-1651672800-1651680000@puslinchpioneer.com
SUMMARY:Scrabble Club (Adults)
DESCRIPTION:Drop into the branch for an afternoon of casual word building entertainment! No experience necessary. \n			\n			\n				\n				\n				\n				\n				\n				Register
URL:https://puslinchpioneer.com/index.php/event/scrabble-club-adults/
LOCATION:Puslinch Branch\, Wellington County Library\, 29 Brock Road South\, Puslinch\, Ontario\, N0B 2J0\, Canada
ATTACH;FMTTYPE=image/jpeg:https://puslinchpioneer.com/wp-content/uploads/2022/04/ScrabbleClub1200x900.jpg
END:VEVENT
BEGIN:VEVENT
DTSTART;TZID=UTC:20211028T170000
DTEND;TZID=UTC:20211028T210000
DTSTAMP:20260424T180659
CREATED:20211018T151114Z
LAST-MODIFIED:20211018T151114Z
UID:1200-1635440400-1635454800@puslinchpioneer.com
SUMMARY:Food4Kids Guelph Halloween Drive-In Movie Night
DESCRIPTION:Join us for a fun-filled Halloween evening at the Mustang Drive-In to help raise funds to feed hungry children in our community. \nThe Halloween movie “The Addams Family” is a funny\, animated\, kid-friendly movie appealing to children of all ages! \nThursday\, October 28th\, 2021.  Good news … Friday is a PD day! \nCOVID guidelines as of October 28th will be in effect. \nCan’t make it? Please consider a donation. All donations received by September 30th will allow one or more of our families to participate (you will receive an immediate tax receipt for your donation).
URL:https://puslinchpioneer.com/index.php/event/food4kids-guelph-halloween-drive-in-movie-night/
LOCATION:Mustang Drive-InGuelph\, 5012 Jones Baseline Rd.\, Guelph\, Ontario\, N1H 6H8\, Canada
ATTACH;FMTTYPE=image/jpeg:https://puslinchpioneer.com/wp-content/uploads/2021/10/TheAddamsFamily.jpg
ORGANIZER;CN="Food4Kids Guelph":MAILTO:sylviaf4k@gmail.com
END:VEVENT
BEGIN:VEVENT
DTSTART;TZID=UTC:20180529T093000
DTEND;TZID=UTC:20180529T093000
DTSTAMP:20260424T180659
CREATED:20180504T211610Z
LAST-MODIFIED:20180504T211610Z
UID:702-1527586200-1527586200@puslinchpioneer.com
SUMMARY:Bluebird Trail Walk
DESCRIPTION:Bluebird Trail Walks at Crieff Hills with Marion Robertson are taking place at 9:30 am every Tuesday in May (weather permitting). \nMeet in the Conference Hall parking lot. \nPlease call ahead to let us know you are coming! 519 824-7898.  Come and watch the Eastern Bluebirds and Tree Swallows as they build their nests and raise their young! \nThere is no charge for these guided walks but donations are appreciated.
URL:https://puslinchpioneer.com/index.php/event/bluebird-trail-walk-2/
LOCATION:Crieff Hills Retreat & Conference Centre\, 7098 Concession 1\, Puslinch\, Ontario\, Canada
ATTACH;FMTTYPE=image/jpeg:https://puslinchpioneer.com/wp-content/uploads/2018/05/BluebirdJune02DSCF1802.jpg
END:VEVENT
BEGIN:VEVENT
DTSTART;TZID=UTC:20180526T090000
DTEND;TZID=UTC:20180526T140000
DTSTAMP:20260424T180659
CREATED:20180504T195346Z
LAST-MODIFIED:20180504T222226Z
UID:679-1527325200-1527343200@puslinchpioneer.com
SUMMARY:2018 Spring Plant Sale
DESCRIPTION:Guelph-Wellington Master Gardeners\, Nature Guelph and The Guelph Enabling Garden are joining forces again this year for a combined plant sale Saturday\, May 26\, at the City of Guelph Waterworks Department (29 Waterworks Place). \nThe event takes place 9 a.m.-2 p.m.\, rain or shine. The City of Guelph Water Services will be selling rain barrels at the event. \nCash and cheques will be accepted. For more information or to donate or volunteer\, please email mgguelph@hotmail.com.
URL:https://puslinchpioneer.com/index.php/event/2018-spring-plant-sale/
LOCATION:Guelph Water Works\, 29 Waterworks Pl\, Guelph\, Ontario\, Canada
ATTACH;FMTTYPE=image/jpeg:https://puslinchpioneer.com/wp-content/uploads/2018/05/Plants.jpg
END:VEVENT
BEGIN:VEVENT
DTSTART;TZID=UTC:20180526T080000
DTEND;TZID=UTC:20180526T120000
DTSTAMP:20260424T180659
CREATED:20180504T194432Z
LAST-MODIFIED:20180504T222257Z
UID:672-1527321600-1527336000@puslinchpioneer.com
SUMMARY:Annual Garage Sale and Bake Sale
DESCRIPTION:Rain or Shine. Come and find some treasures.
URL:https://puslinchpioneer.com/index.php/event/annual-garage-sale-and-bake-sale/
LOCATION:Ontario
ATTACH;FMTTYPE=image/jpeg:https://puslinchpioneer.com/wp-content/uploads/2018/05/245233-P3H341-545.jpg
END:VEVENT
BEGIN:VEVENT
DTSTART;TZID=UTC:20180522T093000
DTEND;TZID=UTC:20180522T093000
DTSTAMP:20260424T180659
CREATED:20180504T211425Z
LAST-MODIFIED:20180504T211654Z
UID:698-1526981400-1526981400@puslinchpioneer.com
SUMMARY:Bluebird Trail Walk
DESCRIPTION:Bluebird Trail Walks at Crieff Hills with Marion Robertson are taking place at 9:30 am every Tuesday in May (weather permitting). \nMeet in the Conference Hall parking lot. \nPlease call ahead to let us know you are coming! 519 824-7898.  Come and watch the Eastern Bluebirds and Tree Swallows as they build their nests and raise their young! \nThere is no charge for these guided walks but donations are appreciated.
URL:https://puslinchpioneer.com/index.php/event/bluebird-trail-walk/
LOCATION:Crieff Hills Retreat & Conference Centre\, 7098 Concession 1\, Puslinch\, Ontario\, Canada
ATTACH;FMTTYPE=image/jpeg:https://puslinchpioneer.com/wp-content/uploads/2018/05/Bluebird-close-up-with-food1.jpg
END:VEVENT
BEGIN:VEVENT
DTSTART;TZID=UTC:20180515T093000
DTEND;TZID=UTC:20180515T093000
DTSTAMP:20260424T180659
CREATED:20180504T211226Z
LAST-MODIFIED:20180504T211447Z
UID:695-1526376600-1526376600@puslinchpioneer.com
SUMMARY:Bluebird Trail Walk
DESCRIPTION:Bluebird Trail Walks at Crieff Hills with Marion Robertson are taking place at 9:30 am every Tuesday in May (weather permitting). \nMeet in the Conference Hall parking lot. \nPlease call ahead to let us know you are coming! 519 824-7898.  Come and watch the Eastern Bluebirds and Tree Swallows as they build their nests and raise their young! \nThere is no charge for these guided walks but donations are appreciated.
URL:https://puslinchpioneer.com/index.php/event/bluebird-trail-walks-2/
LOCATION:Crieff Hills Retreat & Conference Centre\, 7098 Concession 1\, Puslinch\, Ontario\, Canada
ATTACH;FMTTYPE=image/jpeg:https://puslinchpioneer.com/wp-content/uploads/2018/05/BluebirdJune02DSCF1802.jpg
END:VEVENT
BEGIN:VEVENT
DTSTART;TZID=UTC:20180512T083000
DTEND;TZID=UTC:20180512T120000
DTSTAMP:20260424T180659
CREATED:20180504T221819Z
LAST-MODIFIED:20180504T221819Z
UID:715-1526113800-1526126400@puslinchpioneer.com
SUMMARY:Bird Banding and Spring Nature Hikes
DESCRIPTION:Come and Watch the birds as they are banded and enjoy a hike on the trails. \nDrop by the picnic shelter anytime during the morning. No charge\, but donations are appreciated. \nBring the whole family!
URL:https://puslinchpioneer.com/index.php/event/bird-banding-and-spring-nature-hikes/
LOCATION:Crieff Hills Retreat & Conference Centre\, 7098 Concession 1\, Puslinch\, Ontario\, Canada
ATTACH;FMTTYPE=image/jpeg:https://puslinchpioneer.com/wp-content/uploads/2018/05/1947.jpg
END:VEVENT
BEGIN:VEVENT
DTSTART;TZID=UTC:20180508T093000
DTEND;TZID=UTC:20180508T093000
DTSTAMP:20260424T180659
CREATED:20180504T210855Z
LAST-MODIFIED:20180504T211442Z
UID:689-1525771800-1525771800@puslinchpioneer.com
SUMMARY:Bluebird  Trail Walk
DESCRIPTION:Bluebird Trail Walks at Crieff Hills with Marion Robertson are taking place at 9:30 am every Tuesday in May (weather permitting). \nMeet in the Conference Hall parking lot. \nPlease call ahead to let us know you are coming! 519 824-7898.  Come and watch the Eastern Bluebirds and Tree Swallows as they build their nests and raise their young! \nThere is no charge for these guided walks but donations are appreciated.
URL:https://puslinchpioneer.com/index.php/event/bluebird-trail-walks/
LOCATION:Crieff Hills Retreat & Conference Centre\, 7098 Concession 1\, Puslinch\, Ontario\, Canada
ATTACH;FMTTYPE=image/jpeg:https://puslinchpioneer.com/wp-content/uploads/2018/05/Bluebird-close-up-with-food1.jpg
END:VEVENT
BEGIN:VEVENT
DTSTART;TZID=UTC:20180506T100000
DTEND;TZID=UTC:20180506T150000
DTSTAMP:20260424T180659
CREATED:20180504T212927Z
LAST-MODIFIED:20180504T213011Z
UID:705-1525600800-1525618800@puslinchpioneer.com
SUMMARY:The Donkey Sanctuary - Open for Season
DESCRIPTION:Open Hours\n10am – 3pm\nSundays: May – October\nWednesdays: July & August \n** NOTE : Parking is limited at the Sanctuary farm\, please consider carpooling.
URL:https://puslinchpioneer.com/index.php/event/the-donkey-sanctuary-open-for-season/
LOCATION:The Donkey Sanctuary\, 6981 Concession 4\, Puslinch\, ON\, N0B 2J0\, Canada
ATTACH;FMTTYPE=image/jpeg:https://puslinchpioneer.com/wp-content/uploads/2017/06/DonkeyDay.jpg
END:VEVENT
BEGIN:VEVENT
DTSTART;TZID=UTC:20170624T100000
DTEND;TZID=UTC:20170624T160000
DTSTAMP:20260424T180659
CREATED:20170605T215823Z
LAST-MODIFIED:20170605T215823Z
UID:565-1498298400-1498320000@puslinchpioneer.com
SUMMARY:Puslinch Lakeside Living 2017 Home Tour
DESCRIPTION:Visit beautiful\, unique\, and rustic homes that surround shores of Puslinch Lake. Tour by pontoon boat or car.
URL:https://puslinchpioneer.com/index.php/event/puslinch-lakeside-living-2017-home-tour/
LOCATION:Ontario
ATTACH;FMTTYPE=image/jpeg:https://puslinchpioneer.com/wp-content/uploads/2017/06/LikesideLiving.jpg
END:VEVENT
BEGIN:VEVENT
DTSTART;TZID=UTC:20170611T100000
DTEND;TZID=UTC:20170611T180000
DTSTAMP:20260424T180659
CREATED:20170605T201035Z
LAST-MODIFIED:20170605T224104Z
UID:552-1497175200-1497204000@puslinchpioneer.com
SUMMARY:Donkey Day
DESCRIPTION:A day in the country for animal lovers of all ages! Donkey Day is a ridonkulous\, fun-tastic fundraiser for our lovable Sanctuary donkeys and mules.  There will be delicious food\, walking/hiking trails and of course\, donkeys! \n\nVisit with over 80 Donkeys and Mules\nDiamond Dogs\nLearning Centre\nErick Trapline\nFive the Magician\nKid’s Fun Fest\nSilent Auction\nLong Ears Boutique\nWild Ontario
URL:https://puslinchpioneer.com/index.php/event/donkey-day/
LOCATION:The Donkey Sanctuary\, 6981 Concession 4\, Puslinch\, ON\, N0B 2J0\, Canada
ATTACH;FMTTYPE=image/jpeg:https://puslinchpioneer.com/wp-content/uploads/2017/06/DonkeyDay.jpg
END:VEVENT
END:VCALENDAR